BEGIN:VCALENDAR
VERSION:2.0
PRODID:-//TaiwaneseAmerican.org - ECPv4.9.4//NONSGML v1.0//EN
CALSCALE:GREGORIAN
METHOD:PUBLISH
X-WR-CALNAME:TaiwaneseAmerican.org
X-ORIGINAL-URL:https://www.taiwaneseamerican.org
X-WR-CALDESC:Events for TaiwaneseAmerican.org
BEGIN:VTIMEZONE
TZID:"America/Los_Angeles"
BEGIN:DAYLIGHT
TZOFFSETFROM:-0800
TZOFFSETTO:-0700
TZNAME:PDT
DTSTART:20170312T100000
END:DAYLIGHT
BEGIN:STANDARD
TZOFFSETFROM:-0700
TZOFFSETTO:-0800
TZNAME:PST
DTSTART:20171105T090000
END:STANDARD
END:VTIMEZONE
BEGIN:VEVENT
DTSTART;TZID="America/Los_Angeles":20170719T200000
DTEND;TZID="America/Los_Angeles":20170720T010000
DTSTAMP:20260419T181657
CREATED:20170627T040049Z
LAST-MODIFIED:20170627T040049Z
UID:15571-1500494400-1500512400@www.taiwaneseamerican.org
SUMMARY:Watch Taiwanese Bands Perform in San Francisco
DESCRIPTION:Come out and watch Fire EX. Taiwan’s representative Punk Rock Band and Fake Your Own Death (FYOD) band perform in San Francisco! \n滅火器  Fire EX. from Kaohsiung\, Taiwan\, was established in 2000. The band consists of lead vocalist Sam\, guitarist Orio\, bassist Jc\, who were classmates in high school; drummer Ti Wu joined them in 2012\, and completed the band. \nAs of today\, they have released four full albums and many singles; Fire EX. combines the base tones of punk rock with lyrics reflecting current times and real-life\, striking a chord with those who readily identify with their songs. Popular tracks\, such as ‘Good Night! Formosa!’\, ‘A Man on the Sea’\, and ‘Island’s Sunrise’\, have made Fire EX. the representative punk rock band of modern times\, and earning them the name of ‘The Taiwan People’s Music Band’. \nFake Your Own Death\nYou don’t have to actually die to start over\, but you might have to pretend to. FYOD has been compared to bands like Echo and the Bunnymen\, Sonic Youth and Jesus and Mary Chain by both local and national press. \nTwo of the band members in FYOD are teachers and one is a skipper on a boat. \nFYOD has played with bands like The Warlocks\, Blood Red Shoes\, Film School\, White Denim\, Bob Mould and Gang of Four. FYOD sometimes plays under the name El Terrible which was Terry’s nickname when he was a short order cook at a Sizzler. \nFake Your Own Death is Scott Eberhardt\, Terry Ashkinos\, Israel Chavarin and Jimmy Chen. \n
URL:https://www.taiwaneseamerican.org/event/watch-taiwanese-bands-perform-in-san-francisco/
LOCATION:Brick and Mortar Music Hall\, 1710 Mission St\, San Francisco\, CA\, 94103\, United States
CATEGORIES:West Coast
END:VEVENT
END:VCALENDAR