BEGIN:VCALENDAR
VERSION:2.0
PRODID:-//TaiwaneseAmerican.org - ECPv4.9.4//NONSGML v1.0//EN
CALSCALE:GREGORIAN
METHOD:PUBLISH
X-WR-CALNAME:TaiwaneseAmerican.org
X-ORIGINAL-URL:https://www.taiwaneseamerican.org
X-WR-CALDESC:Events for TaiwaneseAmerican.org
BEGIN:VTIMEZONE
TZID:"America/Los_Angeles"
BEGIN:DAYLIGHT
TZOFFSETFROM:-0800
TZOFFSETTO:-0700
TZNAME:PDT
DTSTART:20150308T100000
END:DAYLIGHT
BEGIN:STANDARD
TZOFFSETFROM:-0700
TZOFFSETTO:-0800
TZNAME:PST
DTSTART:20151101T090000
END:STANDARD
END:VTIMEZONE
BEGIN:VEVENT
DTSTART;TZID="America/Los_Angeles":20150321T090000
DTEND;TZID="America/Los_Angeles":20150321T120000
DTSTAMP:20260419T181531
CREATED:20150321T021816Z
LAST-MODIFIED:20150321T021816Z
UID:12973-1426928400-1426939200@www.taiwaneseamerican.org
SUMMARY:Tree Planting with TAP in Atlanta
DESCRIPTION:To welcome the Spring\, Taiwanese American Professionals – Atlanta (TAP-Atlanta) and Rubbermaid will be volunteering with Atlanta Trees to plant trees from 9 am to 12 pm March 21. It is important to arrive on time as they can only provide one demonstration (it takes 20 minutes) and every volunteer needs to see it. \nWe will be planting trees in the Westhaven neighborhood on Saturday. We also want all volunteers to stay for the entire project\, and not leave before we finish. \n• All ages are welcome\, but volunteers under the age of 16 must be accompanied by a parent/guardian\, and all volunteers between the ages of 16 and 17 who are not accompanied by a parent/guardian must have a parent/guardian sign a waiver for them (We can send it to you if needed). \n• Please wear closed-toed shoes or boots\, clothes that can get dirty\, sunscreen and bug spray as needed. \n• We recommend that volunteers bring drinking water in a reusable container. No one-time-use plastic bottles\, please. \n• Tree planting is hard work\, so make sure to eat a good breakfast and come prepared to work hard. A snack might be a good thing for those who tend to lose steam. \n• Projects happen rain or shine\, so please check the weather beforehand and come prepared. \n• Trees Atlanta will provide all necessary tools and instruction\, though volunteers may prefer to bring their own work gloves as reused gloves are not the nicest. \nPlease register at the following link so that we can get a good headcount: http://www.tap-atl.org/calendar/event-registration/?ee=8 \nTabitha Schwartz is the coordinator for this project. If you have any trouble finding the meeting location\, please call her cell phone at 404.547.2471. \nClick here for a map of the meeting location: https://www.google.com/maps/d/viewer?mid=zBerNtDKUffA.ke1gTFT3mMn4 \n
URL:https://www.taiwaneseamerican.org/event/tree-planting-with-tap-in-atlanta/
LOCATION:AX Auto Inc.\, 15 Linkwood Rd NW\, Atlanta\, GA\, 30311\, United States
CATEGORIES:South
ATTACH;FMTTYPE=image/png:https://www.taiwaneseamerican.org/wp-content/uploads/tapatl-tree.png
END:VEVENT
END:VCALENDAR