BEGIN:VCALENDAR
VERSION:2.0
PRODID:-//TaiwaneseAmerican.org - ECPv4.9.4//NONSGML v1.0//EN
CALSCALE:GREGORIAN
METHOD:PUBLISH
X-WR-CALNAME:TaiwaneseAmerican.org
X-ORIGINAL-URL:https://www.taiwaneseamerican.org
X-WR-CALDESC:Events for TaiwaneseAmerican.org
BEGIN:VTIMEZONE
TZID:"America/Los_Angeles"
BEGIN:DAYLIGHT
TZOFFSETFROM:-0800
TZOFFSETTO:-0700
TZNAME:PDT
DTSTART:20170312T100000
END:DAYLIGHT
BEGIN:STANDARD
TZOFFSETFROM:-0700
TZOFFSETTO:-0800
TZNAME:PST
DTSTART:20171105T090000
END:STANDARD
END:VTIMEZONE
BEGIN:VEVENT
DTSTART;TZID="America/Los_Angeles":20170203T151500
DTEND;TZID="America/Los_Angeles":20170203T173000
DTSTAMP:20260419T181443
CREATED:20170130T003504Z
LAST-MODIFIED:20170130T003606Z
UID:15120-1486134900-1486143000@www.taiwaneseamerican.org
SUMMARY:TEDx Talk at Temple City High School
DESCRIPTION:Love TEDx talks? Join us! \nAt TEDx events\, a screening of TED Talks videos — or a combination of live presenters and TED Talks videos — sparks deep conversation and connections at the local level. Our goal is to be the catalyst for the sharing of ideas and expertise in a community of bright minds and diverse interests. Two of the speakers are Taiwanese American. Come listen to what they have to say! \nEvent Information:\nFebruary 3\, 2017\n3:15pm to 5:30pm PST\nRoom 601 at Temple City High School\n(9501 Lemon Avenue\, Temple City\, CA\, 91780) \nFREE tickets avaliable now. Get tickets from room 409 or staff members around campus (they have red X’s on their backpacks!)\nSEATS ARE LIMITED. \nCheck out our website: http://www.ted.com/tedx/events/19958\nQuestions? Email us: TEDxTempleCityHS@gmail.com \n
URL:https://www.taiwaneseamerican.org/event/tedx-talk-at-temple-city-high-school/
LOCATION:Temple City High School\, 9501 Lemon Ave\, Temple City\, CA\, 91780\, United States
CATEGORIES:West Coast
ATTACH;FMTTYPE=image/jpeg:https://www.taiwaneseamerican.org/wp-content/uploads/tedx-tchs.jpg
END:VEVENT
END:VCALENDAR