BEGIN:VCALENDAR
VERSION:2.0
PRODID:-//TaiwaneseAmerican.org - ECPv4.9.4//NONSGML v1.0//EN
CALSCALE:GREGORIAN
METHOD:PUBLISH
X-WR-CALNAME:TaiwaneseAmerican.org
X-ORIGINAL-URL:https://www.taiwaneseamerican.org
X-WR-CALDESC:Events for TaiwaneseAmerican.org
BEGIN:VTIMEZONE
TZID:"America/Los_Angeles"
BEGIN:DAYLIGHT
TZOFFSETFROM:-0800
TZOFFSETTO:-0700
TZNAME:PDT
DTSTART:20190310T100000
END:DAYLIGHT
BEGIN:STANDARD
TZOFFSETFROM:-0700
TZOFFSETTO:-0800
TZNAME:PST
DTSTART:20191103T090000
END:STANDARD
END:VTIMEZONE
BEGIN:VEVENT
DTSTART;VALUE=DATE:20191019
DTEND;VALUE=DATE:20191020
DTSTAMP:20260419T181437
CREATED:20191017T034931Z
LAST-MODIFIED:20191017T035009Z
UID:17686-1571443200-1571529599@www.taiwaneseamerican.org
SUMMARY:Tea for Taiwan: A Documentary About Taiwanese American Activism
DESCRIPTION:Eliana Ritts\n2019 | 18 min | USA\, Taiwan\nDirector in Attendance \nBubble tea\, known for its fluorescent straws and tapioca balls\, has become a staple in New York City. But the sweet drink is also a surprising tool for Taiwanese-American activists. Unlike the ubiquitous beverage\, Taiwan\, a nation of 23 million people\, is largely unrecognized by the international community. Through this exploration of bubble tea\, experience the sights\, sounds\, and tastes of Taiwanese activism in New York City. \nCo-presented by the New York University Center for Media\, Culture and History\, Department of Anthropology \nPlease see event website for ticketing and more information. \n
URL:https://www.taiwaneseamerican.org/event/tea-for-taiwan-a-documentary-about-taiwanese-american-activism/
CATEGORIES:East Coast
ATTACH;FMTTYPE=image/jpeg:https://www.taiwaneseamerican.org/wp-content/uploads/Tea-for-Taiwan.jpg
END:VEVENT
END:VCALENDAR