BEGIN:VCALENDAR
VERSION:2.0
PRODID:-//TaiwaneseAmerican.org - ECPv4.9.4//NONSGML v1.0//EN
CALSCALE:GREGORIAN
METHOD:PUBLISH
X-WR-CALNAME:TaiwaneseAmerican.org
X-ORIGINAL-URL:https://www.taiwaneseamerican.org
X-WR-CALDESC:Events for TaiwaneseAmerican.org
BEGIN:VTIMEZONE
TZID:"America/Los_Angeles"
BEGIN:DAYLIGHT
TZOFFSETFROM:-0800
TZOFFSETTO:-0700
TZNAME:PDT
DTSTART:20150308T100000
END:DAYLIGHT
BEGIN:STANDARD
TZOFFSETFROM:-0700
TZOFFSETTO:-0800
TZNAME:PST
DTSTART:20151101T090000
END:STANDARD
END:VTIMEZONE
BEGIN:VEVENT
DTSTART;TZID="America/Los_Angeles":20150805T173000
DTEND;TZID="America/Los_Angeles":20150805T203000
DTSTAMP:20260419T181316
CREATED:20150729T064012Z
LAST-MODIFIED:20150729T064012Z
UID:13445-1438795800-1438806600@www.taiwaneseamerican.org
SUMMARY:TAPpy Hour in LA
DESCRIPTION:Uh-Oh! Guess what day it is? It’s Hump Day! Time to start celebrating the WTF (Wed\, Thurs\, Fri) part of the week. And who better to celebrate it with than with Taiwanese American Professionals – Los Angeles (TAP-LA)! Take a break from your daily grind and recharge at our monthly TAPpy Hour\, taking place this month at Peking Tavern. \nCome enjoy authentic Northern Chinese street food and home cooking paired with your favorite spirits. Take advantage of Wine Wednesdays with $5 glasses and 1/2 price bottles as well as other discounted food and drink specials during happy hour\, which was specifically extended for you beautiful people. \nAdmission is FREE.\nDress to impress; but really\, who needs an excuse to look good anyway? \nQuestions? Contact Joseph: 4chencookie@gmail.com \n
URL:https://www.taiwaneseamerican.org/event/tappy-hour-in-la-4/
LOCATION:Peking Tavern\, 806 S Spring St\, Los Angeles\, CA\, 90014\, United States
CATEGORIES:West Coast
ATTACH;FMTTYPE=image/jpeg:https://www.taiwaneseamerican.org/wp-content/uploads/tapla-aug.jpg
END:VEVENT
END:VCALENDAR