BEGIN:VCALENDAR
VERSION:2.0
PRODID:-//TaiwaneseAmerican.org - ECPv4.9.4//NONSGML v1.0//EN
CALSCALE:GREGORIAN
METHOD:PUBLISH
X-WR-CALNAME:TaiwaneseAmerican.org
X-ORIGINAL-URL:https://www.taiwaneseamerican.org
X-WR-CALDESC:Events for TaiwaneseAmerican.org
BEGIN:VTIMEZONE
TZID:"America/Los_Angeles"
BEGIN:DAYLIGHT
TZOFFSETFROM:-0800
TZOFFSETTO:-0700
TZNAME:PDT
DTSTART:20150308T100000
END:DAYLIGHT
BEGIN:STANDARD
TZOFFSETFROM:-0700
TZOFFSETTO:-0800
TZNAME:PST
DTSTART:20151101T090000
END:STANDARD
END:VTIMEZONE
BEGIN:VEVENT
DTSTART;TZID="America/Los_Angeles":20150225T183000
DTEND;TZID="America/Los_Angeles":20150225T213000
DTSTAMP:20260420T184643
CREATED:20150225T063114Z
LAST-MODIFIED:20150225T064630Z
UID:12797-1424889000-1424899800@www.taiwaneseamerican.org
SUMMARY:TAPpy Hour in LA
DESCRIPTION:Join Taiwanese American Professionals in Los Angeles (TAP-LA) and take a break from your daily grind to recharge at one of their TAPpy Hours. This month\, it takes place at The Wellesbourne\, a nice “speakeasy” type bar that is rather unique.  \nCome check it out\, grab a drink and meet some new people! \nTaiwanese American Professionals (TAP) enhances the Taiwanese-American community by networking individuals interested in professional and career development\, while emphasizing the preservation of Taiwanese American Identity. TAP provides resources and programs that inspire and empower; develop and support professionals to become community-oriented leaders.\nhttp://tap-la.org/ \n
URL:https://www.taiwaneseamerican.org/event/tappy-hour-in-la-2/
LOCATION:The Wellesbourne\, 10929 W Pico Blvd\, Los Angeles\, CA\, 90064\, United States
CATEGORIES:West Coast
ATTACH;FMTTYPE=image/jpeg:https://www.taiwaneseamerican.org/wp-content/uploads/tappyhourla22515.jpg
END:VEVENT
END:VCALENDAR