BEGIN:VCALENDAR
VERSION:2.0
PRODID:-//TaiwaneseAmerican.org - ECPv4.9.4//NONSGML v1.0//EN
CALSCALE:GREGORIAN
METHOD:PUBLISH
X-WR-CALNAME:TaiwaneseAmerican.org
X-ORIGINAL-URL:https://www.taiwaneseamerican.org
X-WR-CALDESC:Events for TaiwaneseAmerican.org
BEGIN:VTIMEZONE
TZID:"America/Los_Angeles"
BEGIN:DAYLIGHT
TZOFFSETFROM:-0800
TZOFFSETTO:-0700
TZNAME:PDT
DTSTART:20170312T100000
END:DAYLIGHT
BEGIN:STANDARD
TZOFFSETFROM:-0700
TZOFFSETTO:-0800
TZNAME:PST
DTSTART:20171105T090000
END:STANDARD
END:VTIMEZONE
BEGIN:VEVENT
DTSTART;TZID="America/Los_Angeles":20170707T183000
DTEND;TZID="America/Los_Angeles":20170709T120000
DTSTAMP:20260421T192243
CREATED:20170627T035437Z
LAST-MODIFIED:20170627T035437Z
UID:15567-1499452200-1499601600@www.taiwaneseamerican.org
SUMMARY:Taiwanese American West Coast Conference in San Diego
DESCRIPTION:The non-profit group\, Taiwanese American Conference – West Coast\, puts on an annual conference to bring Taiwanese people from all generations together to learn and discuss social\, political and economic issues facing Taiwan and Taiwanese Americans. This year\, the conference will be conveniently held at the San Diego Marriott in Mission Valley\, and we have arranged with the organizers to provide Taiwanese American Professionals – San Diego (TAP-SD) members a discounted rate ($15)! The theme is: “Uniting Generations\, Integrating Minds” \nProgramming details and speakers: http://tac-wc.org/ \nConference registrations (please note you are wtih TAP-SD on the Google Form for discount\, prices vary depending on meal options\, but the discounted rate is $20 for registration only): https://docs.google.com/forms/d/e/1FAIpQLSd2Pu5r_EZBOcf-f_1B7Vz9lmzuDXOwrVdsjQXDETv9DD_Imw/viewform?c=0&w=1 \nPlease note the speakers will be a mix of Mandarin\, Taiwanese and English. Please register online by 6/16 if possible to help organizers plan headcount. \nAlso\, catch our very own TAP-SD Professional Chair EChing Ching serenading with the saxophone at the welcome night reception on Friday\, 9pm! \nFor any questions\, please contact Louis Lau (llau@tap-sd.org) or Juice Lee (jlee@tap-sd.org). \n
URL:https://www.taiwaneseamerican.org/event/taiwanese-american-west-coast-conference-in-san-diego/
LOCATION:San Diego Marriott Mission Valley\, 8757 Rio San Diego Drive\, San Diego\, CA\, 92108\, United States
CATEGORIES:West Coast
ATTACH;FMTTYPE=image/jpeg:https://www.taiwaneseamerican.org/wp-content/uploads/TACWC-SD.jpg
END:VEVENT
END:VCALENDAR