BEGIN:VCALENDAR
VERSION:2.0
PRODID:-//TaiwaneseAmerican.org - ECPv4.9.4//NONSGML v1.0//EN
CALSCALE:GREGORIAN
METHOD:PUBLISH
X-WR-CALNAME:TaiwaneseAmerican.org
X-ORIGINAL-URL:https://www.taiwaneseamerican.org
X-WR-CALDESC:Events for TaiwaneseAmerican.org
BEGIN:VTIMEZONE
TZID:"America/Los_Angeles"
BEGIN:DAYLIGHT
TZOFFSETFROM:-0800
TZOFFSETTO:-0700
TZNAME:PDT
DTSTART:20170312T100000
END:DAYLIGHT
BEGIN:STANDARD
TZOFFSETFROM:-0700
TZOFFSETTO:-0800
TZNAME:PST
DTSTART:20171105T090000
END:STANDARD
END:VTIMEZONE
BEGIN:VEVENT
DTSTART;TZID="America/Los_Angeles":20170715T140000
DTEND;TZID="America/Los_Angeles":20170715T160000
DTSTAMP:20260419T134102
CREATED:20170713T065851Z
LAST-MODIFIED:20170713T065851Z
UID:15603-1500127200-1500134400@www.taiwaneseamerican.org
SUMMARY:Taiwan Documentary Film Screening with TAP in Boston
DESCRIPTION:Have you ever seen different parts of Taiwan from a bird eye view? Join Taiwanese American Professionals – Boston (TAP-Boston) as we watch Beyond Beauty: Taiwan from Above (https://www.youtube.com/watch?v=8viB52KsUuc)\, a documentary with breathtaking images of Taiwan and learn about the effects of urbanization on this beautiful island. This event is held in collaboration with NEACP in memory of the director Chi Po-Lin\, who passed away in an accident last month. \nRSVP below so we can know to expect you there! \nhttp://www.tap-boston.org/event/beyond-beauty-taiwan-from-above-documentary-screening/ \n
URL:https://www.taiwaneseamerican.org/event/taiwan-documentary-film-screening-with-tap-in-boston/
LOCATION:Chinese Cultural Center\, 90 Lincoln Street\, Newton Highlands\, MA\, 02461\, United States
CATEGORIES:East Coast
ATTACH;FMTTYPE=image/jpeg:https://www.taiwaneseamerican.org/wp-content/uploads/beyond-beauty.jpg
END:VEVENT
END:VCALENDAR