BEGIN:VCALENDAR
VERSION:2.0
PRODID:-//TaiwaneseAmerican.org - ECPv4.9.4//NONSGML v1.0//EN
CALSCALE:GREGORIAN
METHOD:PUBLISH
X-WR-CALNAME:TaiwaneseAmerican.org
X-ORIGINAL-URL:https://www.taiwaneseamerican.org
X-WR-CALDESC:Events for TaiwaneseAmerican.org
BEGIN:VTIMEZONE
TZID:"America/Los_Angeles"
BEGIN:DAYLIGHT
TZOFFSETFROM:-0800
TZOFFSETTO:-0700
TZNAME:PDT
DTSTART:20150308T100000
END:DAYLIGHT
BEGIN:STANDARD
TZOFFSETFROM:-0700
TZOFFSETTO:-0800
TZNAME:PST
DTSTART:20151101T090000
END:STANDARD
END:VTIMEZONE
BEGIN:VEVENT
DTSTART;TZID="America/Los_Angeles":20150506T183000
DTEND;TZID="America/Los_Angeles":20150506T203000
DTSTAMP:20260419T180328
CREATED:20150503T165033Z
LAST-MODIFIED:20150503T165033Z
UID:13155-1430937000-1430944200@www.taiwaneseamerican.org
SUMMARY:Spring TAPpy Hour in San Diego
DESCRIPTION:It’s TAPpy hour hump day Wednesday! Come out and mingle with your Taiwanese American Professionals – San Diego (TAP-SD) board members\, friends both new and old\, and learn more about our upcoming events! Light refreshments will be served by the restaurant and drinks for purchase at the bar. \nIf you’ve never been to Seasons 52\, they are known for the amazing flatbreads and delicious menu items filled with entrees under 475 calories. \nTAP will be at the reception area in the front of the restaurant\, so please meet us there! Plenty of parking at the mall and valet parking in the front. \nFor additional information or questions\, please contact Will (wchou@tap-sd.org) or Stephanie (swu@tap-sd.org). \nSee you all there \n
URL:https://www.taiwaneseamerican.org/event/spring-tappy-hour-in-san-diego/
LOCATION:Seasons 52\, 4505 La Jolla Village Dr.\, Suite C-2\, San Diego\, CA\, 92122\, United States
CATEGORIES:West Coast
ATTACH;FMTTYPE=image/jpeg:https://www.taiwaneseamerican.org/wp-content/uploads/tapsdspringhour.jpg
END:VEVENT
END:VCALENDAR