BEGIN:VCALENDAR
VERSION:2.0
PRODID:-//TaiwaneseAmerican.org - ECPv4.9.4//NONSGML v1.0//EN
CALSCALE:GREGORIAN
METHOD:PUBLISH
X-WR-CALNAME:TaiwaneseAmerican.org
X-ORIGINAL-URL:https://www.taiwaneseamerican.org
X-WR-CALDESC:Events for TaiwaneseAmerican.org
BEGIN:VTIMEZONE
TZID:"America/Los_Angeles"
BEGIN:DAYLIGHT
TZOFFSETFROM:-0800
TZOFFSETTO:-0700
TZNAME:PDT
DTSTART:20150308T100000
END:DAYLIGHT
BEGIN:STANDARD
TZOFFSETFROM:-0700
TZOFFSETTO:-0800
TZNAME:PST
DTSTART:20151101T090000
END:STANDARD
END:VTIMEZONE
BEGIN:VEVENT
DTSTART;TZID="America/Los_Angeles":20150318T200000
DTEND;TZID="America/Los_Angeles":20150318T200000
DTSTAMP:20260420T184052
CREATED:20150311T023938Z
LAST-MODIFIED:20150311T023938Z
UID:12886-1426708800-1426708800@www.taiwaneseamerican.org
SUMMARY:Networking Party with TAJCCNC in NorCal 
DESCRIPTION:For the first time\, TAJCCNC is having our monthly networking on a Wednesday night and given the opportunity to network with many successful and well known Taiwanese American business owners and professionals in the bay area. The best part is\, it is exclusive to our group at no cover charge to the most popular and newly remodeled club in Silicon Valley: Pure Lounge! \nRSVP is required for free entry via this link by 3/17 at 11pm: http://goo.gl/forms/HoQUz3CYUJ \n– Drinks can be purchased at the bar.\n– Without an RSVP\, tickets will be $30 at the door.\n– VIP tables may be available\, please contact us via email: tajccnc@gmail.com \nDon’t miss out this very special event and be sure to bring plenty of business cards and network in a club setting! \n
URL:https://www.taiwaneseamerican.org/event/networking-party-with-tajccnc-in-norcal/
LOCATION:Pure Lounge\, 146 S Murphy Ave\, Sunnyvale\, CA\, 94086\, United States
CATEGORIES:West Coast
END:VEVENT
END:VCALENDAR