BEGIN:VCALENDAR
VERSION:2.0
PRODID:-//TaiwaneseAmerican.org - ECPv4.9.4//NONSGML v1.0//EN
CALSCALE:GREGORIAN
METHOD:PUBLISH
X-WR-CALNAME:TaiwaneseAmerican.org
X-ORIGINAL-URL:https://www.taiwaneseamerican.org
X-WR-CALDESC:Events for TaiwaneseAmerican.org
BEGIN:VTIMEZONE
TZID:"America/Los_Angeles"
BEGIN:DAYLIGHT
TZOFFSETFROM:-0800
TZOFFSETTO:-0700
TZNAME:PDT
DTSTART:20150308T100000
END:DAYLIGHT
BEGIN:STANDARD
TZOFFSETFROM:-0700
TZOFFSETTO:-0800
TZNAME:PST
DTSTART:20151101T090000
END:STANDARD
END:VTIMEZONE
BEGIN:VEVENT
DTSTART;TZID="America/Los_Angeles":20151003T180000
DTEND;TZID="America/Los_Angeles":20151003T220000
DTSTAMP:20260420T081228
CREATED:20150930T041807Z
LAST-MODIFIED:20150930T045213Z
UID:13606-1443895200-1443909600@www.taiwaneseamerican.org
SUMMARY:Mid-Autumn Festival Party with TAP in Chicago
DESCRIPTION:The Mid-Autumn Festival (中秋節) has been a Chinese tradition since 16th century BCE; it’s an opportunity for friends to celebrate togetherness and rejuvenation. Bring your friends and join Taiwanese American Professionals – Chicago (TAP-Chicago) in this celebration of the full harvest moon with traditional Chinese costumes\, stories\, games\, lanterns\, and mooncakes (月餅) \nLOCATION:\nRooftop party room at EnV\, 161 W Kinzie St\, Chicago\, IL 60654. Perfect for moon-gazing with its amazing views of the city of Chicago. \nCOST\nEarly bird ticket: $30 by Sun\, September 27.\nGeneral admission ticket: $35 by Wed\, September 30th.\nLate/On site registration: $40 (If space is available) \nTICKETS – limited QTY available\, usually sells out\, ensure your attendance by purchasing through Eventbrite: http://tapmidautumnfest.eventbrite.com/ \nIf you’d like to volunteer at the event\, please reach out to Kelly Chen\, Kelly@tapchicago.com\, for more details. \nSCHEDULE\n6:00pm – 7:00pm: Cocktails (Open Bar!) and games\n7:00pm – 9:00pm: Delicious Taiwanese Appetizers\, Entrees\, Desserts and of course Mooncakes!\n9:00pm – 10:00pm: Networking and After-Party \nLIVE DJ \nOPEN BAR\nWe’ll provide the usual beer\, hard liquor\, soft drinks\, and cocktails all evening long. \nTHE FOOD\nApps （前菜）\nCrispy shrimp rolls （脆皮鮮蝦卷）\nFried spring rolls with taro （紫薯炸春卷） \nVeggies （蔬菜）\nGreen bean with tofu （豌豆炒豆腐）\nThree kinds of mushrooms with ginger （生姜超三菇） \nMain （正餐）\nTaiwanese braised pork rice （台式鹵肉飯）\nTaiwanese shining noodles （台式面條） \nDessert （甜點）\nFresh fruits （各式水果）\nMooncake （月餅） \nSee you all there! \nMore info about TAP-Chicago: http://tapchicago.org/ \n
URL:https://www.taiwaneseamerican.org/event/mid-autumn-festival-party-with-tap-in-chicago/
LOCATION:EnV Chicago Luxury Apartments\, 161 W Kinzie St\, Chicago\, IL\, 60654\, United States
CATEGORIES:Midwest
ATTACH;FMTTYPE=image/jpeg:https://www.taiwaneseamerican.org/wp-content/uploads/tapchic-midautumn.jpg
END:VEVENT
END:VCALENDAR