BEGIN:VCALENDAR
VERSION:2.0
PRODID:-//TaiwaneseAmerican.org - ECPv4.9.4//NONSGML v1.0//EN
CALSCALE:GREGORIAN
METHOD:PUBLISH
X-WR-CALNAME:TaiwaneseAmerican.org
X-ORIGINAL-URL:https://www.taiwaneseamerican.org
X-WR-CALDESC:Events for TaiwaneseAmerican.org
BEGIN:VTIMEZONE
TZID:"America/Los_Angeles"
BEGIN:DAYLIGHT
TZOFFSETFROM:-0800
TZOFFSETTO:-0700
TZNAME:PDT
DTSTART:20160313T100000
END:DAYLIGHT
BEGIN:STANDARD
TZOFFSETFROM:-0700
TZOFFSETTO:-0800
TZNAME:PST
DTSTART:20161106T090000
END:STANDARD
END:VTIMEZONE
BEGIN:VEVENT
DTSTART;TZID="America/Los_Angeles":20160206T190000
DTEND;TZID="America/Los_Angeles":20160206T220000
DTSTAMP:20260419T052146
CREATED:20160129T224809Z
LAST-MODIFIED:20160129T224809Z
UID:13979-1454785200-1454796000@www.taiwaneseamerican.org
SUMMARY:Lunar New Year Banquet with TAP in Austin
DESCRIPTION:Come and celebrate the Lunar New Year with your friends at Taiwanese American Professionals – Austin (TAP-ATX) for an evening of great food\, friends\, and performances! We’ll look back at our first year as a chapter and get a sneak peek of future events to come. \nDate: Feb 6th\, 2016 7PM\nLocation: Shanghai Restaurant\, 6718 Middle Fiskville Rd\nDress code: Dressy Casual \nDinner ticket includes a 14-course traditional Chinese banquet consisting of delicious steamed fish\, seafood tofu pot\, lamb\, and more! There will also be tea and alcoholic beverages included and live musical performances! \nRaffle prizes from Austin Bouldering Project\, Gourdough’s\, Sala and Betty and more! \nAdvance Purchase: $25\nTicket prices will increase after 01/23/2016 to $30 \nBuy your tickets early to avoid the extra cost: https://www.eventbrite.com/e/tap-atx-presents-lunar-new-year-banquet-tickets-20760420978 \nWe hope to see you there! \n
URL:https://www.taiwaneseamerican.org/event/lunar-new-year-banquet-with-tap-in-austin/
LOCATION:Shanghai Chinese Restaurant & Dim Sum\, 6718 Middle Fiskville Rd\, Austin\, TX\, 78752\, United States
CATEGORIES:South
ATTACH;FMTTYPE=image/jpeg:https://www.taiwaneseamerican.org/wp-content/uploads/tapatx-lny.jpg
END:VEVENT
END:VCALENDAR