BEGIN:VCALENDAR
VERSION:2.0
PRODID:-//TaiwaneseAmerican.org - ECPv4.9.4//NONSGML v1.0//EN
CALSCALE:GREGORIAN
METHOD:PUBLISH
X-WR-CALNAME:TaiwaneseAmerican.org
X-ORIGINAL-URL:https://www.taiwaneseamerican.org
X-WR-CALDESC:Events for TaiwaneseAmerican.org
BEGIN:VTIMEZONE
TZID:"America/Los_Angeles"
BEGIN:DAYLIGHT
TZOFFSETFROM:-0800
TZOFFSETTO:-0700
TZNAME:PDT
DTSTART:20150308T100000
END:DAYLIGHT
BEGIN:STANDARD
TZOFFSETFROM:-0700
TZOFFSETTO:-0800
TZNAME:PST
DTSTART:20151101T090000
END:STANDARD
END:VTIMEZONE
BEGIN:VEVENT
DTSTART;TZID="America/Los_Angeles":20150304T190000
DTEND;TZID="America/Los_Angeles":20150304T230000
DTSTAMP:20260420T183847
CREATED:20150302T061756Z
LAST-MODIFIED:20150302T061756Z
UID:12819-1425495600-1425510000@www.taiwaneseamerican.org
SUMMARY:Lunar New Year Banquet with TAP in Atlanta
DESCRIPTION:Celebrate the year of the Sheep with Taiwanese American Professionals in Atlanta (TAP-ATL) on Wednesday\, March 4\, 2015 at Golden BBQ on Buford Hwy. The owners of the restaurant have planned a delicious\, full 10 course traditional Lunar New Year Banquet for us. \nWe will also be doing some trivia at the events. People who give the right answer will be getting a Red Envelope\, so be sure to brush up on your what you know about Taiwan! \nThe price is $20 including tax and tip if you RSVP early and $25 at the door. \n
URL:https://www.taiwaneseamerican.org/event/lunar-new-year-banquet-with-tap-in-atlanta/
LOCATION:Golden BBQ\, 4897 Buford Hwy\, Suite 104\, Chamblee\, GA\, 30341\, United States
CATEGORIES:South
ATTACH;FMTTYPE=image/png:https://www.taiwaneseamerican.org/wp-content/uploads/tapatllny15.png
END:VEVENT
END:VCALENDAR