BEGIN:VCALENDAR
VERSION:2.0
PRODID:-//TaiwaneseAmerican.org - ECPv4.9.4//NONSGML v1.0//EN
CALSCALE:GREGORIAN
METHOD:PUBLISH
X-WR-CALNAME:TaiwaneseAmerican.org
X-ORIGINAL-URL:https://www.taiwaneseamerican.org
X-WR-CALDESC:Events for TaiwaneseAmerican.org
BEGIN:VTIMEZONE
TZID:"America/Los_Angeles"
BEGIN:DAYLIGHT
TZOFFSETFROM:-0800
TZOFFSETTO:-0700
TZNAME:PDT
DTSTART:20170312T100000
END:DAYLIGHT
BEGIN:STANDARD
TZOFFSETFROM:-0700
TZOFFSETTO:-0800
TZNAME:PST
DTSTART:20171105T090000
END:STANDARD
END:VTIMEZONE
BEGIN:VEVENT
DTSTART;TZID="America/Los_Angeles":20170205T110000
DTEND;TZID="America/Los_Angeles":20170205T150000
DTSTAMP:20260420T171709
CREATED:20170215T041750Z
LAST-MODIFIED:20170215T041750Z
UID:15149-1486292400-1486306800@www.taiwaneseamerican.org
SUMMARY:Kids 'N Fun Festival in NorCal
DESCRIPTION:Please bring your friends and families to Taipei Economic and Cultural Office (TECO) on 2/5/2017 for a FREE food and wine tasting event\, and learn how you can support 2017 Kids ‘N Fun Festival!! \n
URL:https://www.taiwaneseamerican.org/event/kids-n-fun-festival-in-norcal/
LOCATION:Culture Center TECO in Milpitas\, 100 South Milpitas Blvd\, Milpitas\, CA\, 95035\, United States
CATEGORIES:West Coast
ATTACH;FMTTYPE=image/jpeg:https://www.taiwaneseamerican.org/wp-content/uploads/kids-n-fun.jpg
END:VEVENT
END:VCALENDAR