BEGIN:VCALENDAR
VERSION:2.0
PRODID:-//TaiwaneseAmerican.org - ECPv4.9.4//NONSGML v1.0//EN
CALSCALE:GREGORIAN
METHOD:PUBLISH
X-WR-CALNAME:TaiwaneseAmerican.org
X-ORIGINAL-URL:https://www.taiwaneseamerican.org
X-WR-CALDESC:Events for TaiwaneseAmerican.org
BEGIN:VTIMEZONE
TZID:"America/Los_Angeles"
BEGIN:DAYLIGHT
TZOFFSETFROM:-0800
TZOFFSETTO:-0700
TZNAME:PDT
DTSTART:20140309T100000
END:DAYLIGHT
BEGIN:STANDARD
TZOFFSETFROM:-0700
TZOFFSETTO:-0800
TZNAME:PST
DTSTART:20141102T090000
END:STANDARD
END:VTIMEZONE
BEGIN:VEVENT
DTSTART;TZID="America/Los_Angeles":20141019T120000
DTEND;TZID="America/Los_Angeles":20141019T170000
DTSTAMP:20260420T182133
CREATED:20140926T231613Z
LAST-MODIFIED:20140926T231613Z
UID:12044-1413720000-1413738000@www.taiwaneseamerican.org
SUMMARY:Kano Screening in Berkeley\, CA
DESCRIPTION:This event is a part of the KANO US Tour 2014. To serve many our Taiwanese friends in the San Francisco Bay Area\, we are planning to hold film screenings and meet-the-producers sessions in two different places\, Berkeley and San Jose. It is our great pleasure and honor to have Producer Wei\, Te-Sheng and Producer Huang\, Chih-Ming as our special guests in the events. And there will be a one-hour meet-the-producers session after each film screening. \nEvent details: \nBerkeley:\nLocation: Wheeler Auditorium\n2222 Bancroft Way\, Berkeley\, CA 94720\n12:30 – 13:00 Admission\n13:00 – 16:20 Kano Movie Screening\n16:20 – 17:00 Meet the Producers \nBuy Berkeley tickets on Eventbrite:\nhttp://www.eventbrite.com/e/kano-sf-berkeley-tickets-13105307327\nGeneral Admission: $10/person \n
URL:https://www.taiwaneseamerican.org/event/kano-screening-in-berkeley/
LOCATION:Berkeley\, Wheeler Auditorium\, 2222 Bancroft Way\, Berkeley\, 94720 \, United States
CATEGORIES:West Coast
ATTACH;FMTTYPE=image/jpeg:https://www.taiwaneseamerican.org/wp-content/uploads/kanoposter.jpg
END:VEVENT
END:VCALENDAR