BEGIN:VCALENDAR
VERSION:2.0
PRODID:-//TaiwaneseAmerican.org - ECPv4.9.4//NONSGML v1.0//EN
CALSCALE:GREGORIAN
METHOD:PUBLISH
X-WR-CALNAME:TaiwaneseAmerican.org
X-ORIGINAL-URL:https://www.taiwaneseamerican.org
X-WR-CALDESC:Events for TaiwaneseAmerican.org
BEGIN:VTIMEZONE
TZID:"America/Los_Angeles"
BEGIN:DAYLIGHT
TZOFFSETFROM:-0800
TZOFFSETTO:-0700
TZNAME:PDT
DTSTART:20160313T100000
END:DAYLIGHT
BEGIN:STANDARD
TZOFFSETFROM:-0700
TZOFFSETTO:-0800
TZNAME:PST
DTSTART:20161106T090000
END:STANDARD
END:VTIMEZONE
BEGIN:VEVENT
DTSTART;TZID="America/Los_Angeles":20160925T091500
DTEND;TZID="America/Los_Angeles":20160925T130000
DTSTAMP:20260419T175653
CREATED:20160920T012526Z
LAST-MODIFIED:20160920T012526Z
UID:14860-1474794900-1474808400@www.taiwaneseamerican.org
SUMMARY:Join TAP in "Race for the Cure" in LA
DESCRIPTION:You are invited to join Taiwanese American Professionals – Los Angeles (TAP-LA) as we partner with the North America Taiwanese Women’s Association (NATWA) Southern California Chapter for “Team Taiwan” in the Susan G. Komen Race for the Cure! For 25 years\, the Susan G. Komen Race for the Cure has been the largest\, most powerful event that raises significant funds and awareness for the breast cancer movement\, celebrates breast cancer survivorship\, and honors those who have lost their battle with the disease. This will be TAP-LA’s third year participating with “Team Taiwan” as we strive to increase awareness and visibility for Taiwan in the local community. Each participant will receive a free TEAM TAIWAN t-shirt! Please email gloria.hou@tap-la.org and we will do our best to accommodate! \nTo Register:\nVisit: http://bit.ly/tapla_teamtaiwan. Select “Join Team” and complete the rest of the registration. The registration fee for adults is $35 ($40 on the day of\, $25 for breast cancer survivors) with proceeds going towards breast cancer research. All ages are welcome! \nWe recommend to park at Corporate Plaza (PCH & Newport Center Dr.)\, then walk to our meeting place\, Marriott Hotel\, 900 Newport Center Dr.\, no need to shuttle. \nMeeting Place:\nTeam Taiwan will meet at 9:15am in front of Newport Beach Marriott Hotel\, 900 Newport Center Dr.\, Newport Beach\, CA. Our race time begins at approximately 9:45am and ends by 12:15pm. \nLunch Gathering:\nThe 5k Walk/Run will commence at about 12:15pm. Afterwards\, we will be gathering for lunch in Fashion Island at True Food Kitchen. With a wide\, healthy selection including vegan\, vegetarian\, or gluten free options they offer something for everyone! To take a look at the menu please visit: http://www.truefoodkitchen.com/locations/newport-beach/ \nBackground Information:\nIn September 2003\, NATWA together with TAA and WUFI-USA launched “Team Taiwan Race for the Cure” project. Since then\, NATWA has been actively encouraging members all across the country to join forces with other local Taiwanese Americans to participate in this fund-raising event for breast cancer research and education. Today\, NATWA with its 15 chapters all over the United States and Canada\, carries on the major activities and legacy of Team Taiwan\, assisted by many of the original founder TA/TC (Taiwanese Canadian) Organizations\, regularly participate in the Susan G. Komen Race for the Cure (for Breast Cancer Research) and The Terry Fox Run (for Cancer Research\, in Canada). \nSusan G. Komen for the Cure is the world’s largest grassroots network of breast cancer survivors and activists fighting to save lives\, empower people\, ensure quality care for all and energize science to find the cures. Since 1982\, the organization has invested nearly $1 billion to fulfill the promise becoming one of the largest sources of nonprofit funds dedicated to the fight against breast cancer in the world. http://www.komen.org/ \nQuestions? Please contact Gloria Hou at gloria.hou@tap-la.org or 562-305-5476 \n
URL:https://www.taiwaneseamerican.org/event/join-tap-in-race-for-the-cure-in-la/
LOCATION:Fashion Island\, 401 Newport Center Dr\, Newport Beach\, CA\, 92660\, United States
CATEGORIES:West Coast
ATTACH;FMTTYPE=image/png:https://www.taiwaneseamerican.org/wp-content/uploads/tapla-race-cure.png
END:VEVENT
END:VCALENDAR