BEGIN:VCALENDAR
VERSION:2.0
PRODID:-//TaiwaneseAmerican.org - ECPv4.9.4//NONSGML v1.0//EN
CALSCALE:GREGORIAN
METHOD:PUBLISH
X-WR-CALNAME:TaiwaneseAmerican.org
X-ORIGINAL-URL:https://www.taiwaneseamerican.org
X-WR-CALDESC:Events for TaiwaneseAmerican.org
BEGIN:VTIMEZONE
TZID:"America/Los_Angeles"
BEGIN:DAYLIGHT
TZOFFSETFROM:-0800
TZOFFSETTO:-0700
TZNAME:PDT
DTSTART:20160313T100000
END:DAYLIGHT
BEGIN:STANDARD
TZOFFSETFROM:-0700
TZOFFSETTO:-0800
TZNAME:PST
DTSTART:20161106T090000
END:STANDARD
END:VTIMEZONE
BEGIN:VEVENT
DTSTART;TZID="America/Los_Angeles":20161018T183000
DTEND;TZID="America/Los_Angeles":20161018T210000
DTSTAMP:20260419T195331
CREATED:20160920T021305Z
LAST-MODIFIED:20160920T021305Z
UID:14887-1476815400-1476824400@www.taiwaneseamerican.org
SUMMARY:"Incensed" Book Talk with Author Ed Lin in NorCal
DESCRIPTION:In Taiwan\, the Mid-Autumn Festival is a time for prioritizing family. When 25-year-old Jing-nan’s gangster uncle\, Big Eye\, asks a favor\, Jing-nan can’t exactly say no\, especially because two goons are going to follow him around to make sure he gets it done right. The favor is this: Big Eye’s 16-year-old daughter\, Mei-ling\, has a biker boyfriend from the wrong side of the tracks—in Big Eye’s gangster opinion—and Big Eye wants Jing-nan to bring her to Taipei\, away from the bad influences\, and straighten her out. \nIt doesn’t take Jing-nan long to discover Mei-ling is even more trouble than the average bratty\, rebellious teenager. She’s been spoiled rotten and doesn’t know how to take no for an answer. She has her father’s thugs wrapped around her finger and quickly becomes the miniature dictator of Jing-nan’s life. But Mei-ling is also hiding a secret—one that puts her in harm’s way. If Jing-nan wants to save his cousin from her own demons\, he has to figure out the truth\, even if it tears his family apart—again. \nIn this second Taipei Night Market novel\, Ed Lin\, author of This Is a Bust\, Snakes Can’t Run\, and One Red Bastard\, takes us on another thrilling adventure rife with the scents and tastes of Taipei. \nIncensed will be released October 4\, 2016. \nRead more of Jing-nan’s night market adventures in Ghost Month. \nGhost Month: http://www.edlinforpresident.com/books/ghost-month/ \n
URL:https://www.taiwaneseamerican.org/event/incensed-book-talk-with-author-ed-lin-in-norcal/
LOCATION:Eastwind Books of Berkeley\, 2066 University Ave\, Berkeley\, CA\, 94704\, United States
CATEGORIES:West Coast
ATTACH;FMTTYPE=image/jpeg:https://www.taiwaneseamerican.org/wp-content/uploads/ed-lin-incensed.jpg
END:VEVENT
END:VCALENDAR