BEGIN:VCALENDAR
VERSION:2.0
PRODID:-//TaiwaneseAmerican.org - ECPv4.9.4//NONSGML v1.0//EN
CALSCALE:GREGORIAN
METHOD:PUBLISH
X-WR-CALNAME:TaiwaneseAmerican.org
X-ORIGINAL-URL:https://www.taiwaneseamerican.org
X-WR-CALDESC:Events for TaiwaneseAmerican.org
BEGIN:VTIMEZONE
TZID:"America/Los_Angeles"
BEGIN:DAYLIGHT
TZOFFSETFROM:-0800
TZOFFSETTO:-0700
TZNAME:PDT
DTSTART:20140309T100000
END:DAYLIGHT
BEGIN:STANDARD
TZOFFSETFROM:-0700
TZOFFSETTO:-0800
TZNAME:PST
DTSTART:20141102T090000
END:STANDARD
END:VTIMEZONE
BEGIN:VEVENT
DTSTART;TZID="America/Los_Angeles":20141218T190000
DTEND;TZID="America/Los_Angeles":20141218T220000
DTSTAMP:20260420T182032
CREATED:20141124T072610Z
LAST-MODIFIED:20141128T081529Z
UID:12484-1418929200-1418940000@www.taiwaneseamerican.org
SUMMARY:Holiday Party and Toys for Tots Fundraiser in Atlanta
DESCRIPTION:Celebrate the Holiday Season with Taiwanese American Professionals in Atlanta (TAP-ATL). They will be hosting an 11 course family style dinner at Cafe 1968 (Cafe 101). \nEvent will be $25 per person (which includes tax and tip) but if you bring a toy for our Toys for Tots fundraiser\, the dinner will only be $20! \nPlease RSVP with a $5 deposit with the link below to guarantee your spot! \nhttp://www.tap-atl.org/calendar/event-registration/?ee=4 \n
URL:https://www.taiwaneseamerican.org/event/holiday-party-tap-atlanta/
LOCATION:Cafe 1968\, 5412 Buford Hwy NE\, Atlanta\, GA\, 30340\, United States
CATEGORIES:East Coast
ATTACH;FMTTYPE=image/png:https://www.taiwaneseamerican.org/wp-content/uploads/tapatlholiday.png
END:VEVENT
END:VCALENDAR