BEGIN:VCALENDAR
VERSION:2.0
PRODID:-//TaiwaneseAmerican.org - ECPv4.9.4//NONSGML v1.0//EN
CALSCALE:GREGORIAN
METHOD:PUBLISH
X-WR-CALNAME:TaiwaneseAmerican.org
X-ORIGINAL-URL:https://www.taiwaneseamerican.org
X-WR-CALDESC:Events for TaiwaneseAmerican.org
BEGIN:VTIMEZONE
TZID:"America/Los_Angeles"
BEGIN:DAYLIGHT
TZOFFSETFROM:-0800
TZOFFSETTO:-0700
TZNAME:PDT
DTSTART:20160313T100000
END:DAYLIGHT
BEGIN:STANDARD
TZOFFSETFROM:-0700
TZOFFSETTO:-0800
TZNAME:PST
DTSTART:20161106T090000
END:STANDARD
END:VTIMEZONE
BEGIN:VEVENT
DTSTART;TZID="America/Los_Angeles":20161029T200000
DTEND;TZID="America/Los_Angeles":20161029T230000
DTSTAMP:20260420T080520
CREATED:20161022T212559Z
LAST-MODIFIED:20161022T212559Z
UID:14959-1477771200-1477782000@www.taiwaneseamerican.org
SUMMARY:Halloween Karaoke with TAP in Austin
DESCRIPTION:Taiwanese American Professionals – Austin (TAP-ATX) presents Scaryoke3! Continuation from years before\, we are hosting another Karaoke event this Halloween. \nWant to show your sing-song spirit with kick-ass costume at the same time? Come join TAP-ATX this year at AUSTIN KARAOKE. Costumes are highly recommended! \nCost:\n$15 Early Bird Tickets (until Sun\, 10/16 11pm!)\n$20 Regular Tickets after Sun\, 10/16 and at the door \nLight snacks and drinks will be included with entry but you should BYOB (Bring Your Own Beer) or in this case BYOP (Bring Your Own Poison >: D) \nWe’ll also have a couple of fun karaoke contests and costume contests\, so bring your A-game! Prizes will include gift cards from Tea Haus\, H-E-B\, and more! \nEventbrite Tix: https://www.eventbrite.com/e/tap-atx-present-scaryoke3-halloween-costume-karaoke-tickets-28518925875 \n
URL:https://www.taiwaneseamerican.org/event/halloween-karaoke-with-tap-in-austin-2/
LOCATION:Austin Karaoke\, 6800 N Lamar Blvd\, Austin\, TX\, 78752\, United States
CATEGORIES:South
ATTACH;FMTTYPE=image/jpeg:https://www.taiwaneseamerican.org/wp-content/uploads/scaryoke-tapatx.jpg
END:VEVENT
END:VCALENDAR