BEGIN:VCALENDAR
VERSION:2.0
PRODID:-//TaiwaneseAmerican.org - ECPv4.9.4//NONSGML v1.0//EN
CALSCALE:GREGORIAN
METHOD:PUBLISH
X-WR-CALNAME:TaiwaneseAmerican.org
X-ORIGINAL-URL:https://www.taiwaneseamerican.org
X-WR-CALDESC:Events for TaiwaneseAmerican.org
BEGIN:VTIMEZONE
TZID:"America/Los_Angeles"
BEGIN:DAYLIGHT
TZOFFSETFROM:-0800
TZOFFSETTO:-0700
TZNAME:PDT
DTSTART:20150308T100000
END:DAYLIGHT
BEGIN:STANDARD
TZOFFSETFROM:-0700
TZOFFSETTO:-0800
TZNAME:PST
DTSTART:20151101T090000
END:STANDARD
END:VTIMEZONE
BEGIN:VEVENT
DTSTART;TZID="America/Los_Angeles":20150210T190000
DTEND;TZID="America/Los_Angeles":20150210T210000
DTSTAMP:20260419T175253
CREATED:20150207T071756Z
LAST-MODIFIED:20150207T071756Z
UID:12758-1423594800-1423602000@www.taiwaneseamerican.org
SUMMARY:"Fresh Off the Boat" Screening with TAP in Seattle
DESCRIPTION:Come watch the viewing of the TV series\, “Fresh Off the Boat” with Taiwanese American Professionals – Seattle (TAP-SEA)! It is based off the life of Taiwanese-American personality Eddie Huang. The two-episode showing (episodes 3 and 4) on ABC on Feb 10th at 8:00 PM\, stars the first Asian American sitcom family on network television in over twenty years. \nCome join us at the Marselle Condos Community Room\, where light snacks will be provided. Door code is 176. If anyone is interested\, we will host a discussion on what everyone thought of these episodes. \nAdmission: Free\, but we also gladly accept donations of any amount to TAP-SEA \n
URL:https://www.taiwaneseamerican.org/event/fresh-off-the-boat-screening-with-tap-in-seattle/
LOCATION:Marselle Condos\, 699 John St\, Seattle\, WA\, 98109\, United States
CATEGORIES:West Coast
ATTACH;FMTTYPE=image/jpeg:https://www.taiwaneseamerican.org/wp-content/uploads/FOB-Seattle.jpg
END:VEVENT
END:VCALENDAR