BEGIN:VCALENDAR
VERSION:2.0
PRODID:-//TaiwaneseAmerican.org - ECPv4.9.4//NONSGML v1.0//EN
CALSCALE:GREGORIAN
METHOD:PUBLISH
X-WR-CALNAME:TaiwaneseAmerican.org
X-ORIGINAL-URL:https://www.taiwaneseamerican.org
X-WR-CALDESC:Events for TaiwaneseAmerican.org
BEGIN:VTIMEZONE
TZID:"America/Los_Angeles"
BEGIN:DAYLIGHT
TZOFFSETFROM:-0800
TZOFFSETTO:-0700
TZNAME:PDT
DTSTART:20160313T100000
END:DAYLIGHT
BEGIN:STANDARD
TZOFFSETFROM:-0700
TZOFFSETTO:-0800
TZNAME:PST
DTSTART:20161106T090000
END:STANDARD
END:VTIMEZONE
BEGIN:VEVENT
DTSTART;TZID="America/Los_Angeles":20160714T185000
DTEND;TZID="America/Los_Angeles":20160714T200000
DTSTAMP:20260420T080934
CREATED:20160714T145514Z
LAST-MODIFIED:20160714T145514Z
UID:14674-1468522200-1468526400@www.taiwaneseamerican.org
SUMMARY:Dance Roulette with TAP in NY
DESCRIPTION:Part five of Taiwanese American Professionals – New York (TAP-NY)’s dance roulette series is here and this time\, we’re learning lyrical hip hop with rockstar TAP member\, Stanley Huang! \nStanley started dancing as a sophomore at Duke University\, where he eventually co-captained fusion dance team\, Defining Movement. These days\, you find him at dance classes all around the city and on the dance floor at TAPpy hours. \nPlease dress comfortably and be prepared to learn some seriously smooth (and fun!) moves. All experience levels welcome! \n
URL:https://www.taiwaneseamerican.org/event/dance-roulette-with-tap-in-ny/
LOCATION:Pearl Studios\, 500 8th Ave.\, 4th Floor\, Room 401\, New York\, NY\, 10018\, United States
CATEGORIES:East Coast
ATTACH;FMTTYPE=image/png:https://www.taiwaneseamerican.org/wp-content/uploads/tapny-hiphop.png
END:VEVENT
END:VCALENDAR