BEGIN:VCALENDAR
VERSION:2.0
PRODID:-//TaiwaneseAmerican.org - ECPv4.9.4//NONSGML v1.0//EN
CALSCALE:GREGORIAN
METHOD:PUBLISH
X-WR-CALNAME:TaiwaneseAmerican.org
X-ORIGINAL-URL:https://www.taiwaneseamerican.org
X-WR-CALDESC:Events for TaiwaneseAmerican.org
BEGIN:VTIMEZONE
TZID:"America/Los_Angeles"
BEGIN:DAYLIGHT
TZOFFSETFROM:-0800
TZOFFSETTO:-0700
TZNAME:PDT
DTSTART:20150308T100000
END:DAYLIGHT
BEGIN:STANDARD
TZOFFSETFROM:-0700
TZOFFSETTO:-0800
TZNAME:PST
DTSTART:20151101T090000
END:STANDARD
END:VTIMEZONE
BEGIN:VEVENT
DTSTART;TZID="America/Los_Angeles":20151107T143000
DTEND;TZID="America/Los_Angeles":20151107T170000
DTSTAMP:20260419T174820
CREATED:20151103T033706Z
LAST-MODIFIED:20151103T033706Z
UID:13727-1446906600-1446915600@www.taiwaneseamerican.org
SUMMARY:College Admissions Panel with TACL-LYF in NorCal
DESCRIPTION:Learn about the college admissions process and the college experience with Taiwanese American Citizens League – Leading Youth Forward (TACL-LYF). Get advice and tips on finding your career path and navigating your way through college. There will be a panel of students and staff who have gone through similar experiences to answer any of the questions you may have! \nProgram & Speakers: \nCin-Yee Shih\, Keynote\nInstructor and the Director of MIT Learning Center’s SAT\, English\, and college application services programs \nHo Chie Tsai\, Keynote\nFounder of TaiwaneseAmerican.org\, Youth Inspirational Speaker \nCollege Student Panel \nWe wish you the best on your journey to finding the best college for you! \n
URL:https://www.taiwaneseamerican.org/event/college-admissions-panel-with-tacl-lyf-in-norcal/
LOCATION:TECO Culture Center\, 100 S. Milpitas Blvd\, Milpitas\, CA\, 95035\, United States
CATEGORIES:West Coast
ATTACH;FMTTYPE=image/jpeg:https://www.taiwaneseamerican.org/wp-content/uploads/tacllyf-panel.jpg
END:VEVENT
END:VCALENDAR