BEGIN:VCALENDAR
VERSION:2.0
PRODID:-//TaiwaneseAmerican.org - ECPv4.9.4//NONSGML v1.0//EN
CALSCALE:GREGORIAN
METHOD:PUBLISH
X-WR-CALNAME:TaiwaneseAmerican.org
X-ORIGINAL-URL:https://www.taiwaneseamerican.org
X-WR-CALDESC:Events for TaiwaneseAmerican.org
BEGIN:VTIMEZONE
TZID:"America/Los_Angeles"
BEGIN:DAYLIGHT
TZOFFSETFROM:-0800
TZOFFSETTO:-0700
TZNAME:PDT
DTSTART:20140309T100000
END:DAYLIGHT
BEGIN:STANDARD
TZOFFSETFROM:-0700
TZOFFSETTO:-0800
TZNAME:PST
DTSTART:20141102T090000
END:STANDARD
END:VTIMEZONE
BEGIN:VEVENT
DTSTART;TZID="America/Los_Angeles":20141210T180000
DTEND;TZID="America/Los_Angeles":20141210T210000
DTSTAMP:20260421T222954
CREATED:20141130T230812Z
LAST-MODIFIED:20141130T230812Z
UID:12523-1418234400-1418245200@www.taiwaneseamerican.org
SUMMARY:Annual Holiday Mixer with TJCCC and TAP in Chicago
DESCRIPTION:Get in the holiday spirit and join Taiwanese Junior Chamber of Commerce Chicago (TJCCC) & Taiwanese American Professionals – Chicago (TAP-Chicago) for our 3rd annual holiday mixer and toy drive event at Municipal Bar located in the heart of River North. \nWe will be collecting new unwrapped toys (must be valued at $10-$15) that will be distributed as Christmas gifts to help under privileged children in the Chicago community experience the joy of Christmas. This year TAP-Chicago has partnered with Dreams For Kids to collect toys for their Holiday For Hope event. \nCan’t make it to the event but want to still help the children? See COST section below. \nCOST:\nFREE with new\, unwrapped toy ($10-$20 value) OR\n$10 donation to toy fund in advance OR\n$15 donation to toy fund at the door\nPlease make advanced donations by December 10th\, 3:00PM. \nRSVP by Eventbrite: https://www.eventbrite.com/e/tap-chicago-holiday-party-and-toy-drive-tickets-14577659171 \nQuestions? Call or email:\nSteph Tao 312-631-8269 or steph@tapchicago.org\nSam Chau 949-870-2629 or sam@tapchicago.org\nGrant Wu 847-710-1688 | grant@tapchicago.org\nMore about Dreams For Kids and their Holiday For Hope event: http://www.dreamsforkids.org/holiday-for-hope/ \nTo find out more about TAP-Chicago\, see recaps of our past events and upcoming events: http://www.tapchicago.org/ orhttps://www.facebook.com/groups/tapchicago/ \nTo find out more about TJCCC (Taiwanese Junior Chamber of Commerce Chicago)\, please visit: https://www.facebook.com/groups/tjccchicago/\n \n
URL:https://www.taiwaneseamerican.org/event/annual-holiday-mixer-with-tjccc-and-tap-in-chicago/
LOCATION:Municipal Bar + Dining Co.\, 216 W Ohio St\, Chicago\, IL\, 60654\, United States
CATEGORIES:Midwest
ATTACH;FMTTYPE=image/jpeg:https://www.taiwaneseamerican.org/wp-content/uploads/holiday-mixer-toy.jpg
END:VEVENT
END:VCALENDAR