BEGIN:VCALENDAR
VERSION:2.0
PRODID:-//TaiwaneseAmerican.org - ECPv4.9.4//NONSGML v1.0//EN
CALSCALE:GREGORIAN
METHOD:PUBLISH
X-WR-CALNAME:TaiwaneseAmerican.org
X-ORIGINAL-URL:https://www.taiwaneseamerican.org
X-WR-CALDESC:Events for TaiwaneseAmerican.org
BEGIN:VTIMEZONE
TZID:"America/Los_Angeles"
BEGIN:DAYLIGHT
TZOFFSETFROM:-0800
TZOFFSETTO:-0700
TZNAME:PDT
DTSTART:20150308T100000
END:DAYLIGHT
BEGIN:STANDARD
TZOFFSETFROM:-0700
TZOFFSETTO:-0800
TZNAME:PST
DTSTART:20151101T090000
END:STANDARD
END:VTIMEZONE
BEGIN:VEVENT
DTSTART;TZID="America/Los_Angeles":20150228T193000
DTEND;TZID="America/Los_Angeles":20150228T210000
DTSTAMP:20260421T134235
CREATED:20150225T073016Z
LAST-MODIFIED:20150225T073016Z
UID:12814-1425151800-1425157200@www.taiwaneseamerican.org
SUMMARY:228 Commemorative Concert with TUF in LA
DESCRIPTION:Dear friends\, \nTaiwanese United Fund – TUF cordially invites you to join us for the 2-28 Commemorative Concert on Saturday\, 2-28-2015 at the Arcadia Presbyterian Church. \nWe look forward to seeing you soon! \nIf you have any questions\, please feel free to contact TUF Board and/or Josephine Pan at (626) 813-1333 \nCordially\,\nTUF Board \n
URL:https://www.taiwaneseamerican.org/event/228-commemorative-concert-with-tuf-in-la/
LOCATION:Arcadia Presbyterian Church\, 121 Alice St.\, Arcadia\, CA\, 91006\, United States
CATEGORIES:West Coast
ATTACH;FMTTYPE=image/jpeg:https://www.taiwaneseamerican.org/wp-content/uploads/tuf-228.jpg
END:VEVENT
END:VCALENDAR